BEGIN:VCALENDAR
VERSION:2.0
PRODID:-//Plone.org//NONSGML plone.app.event//EN
X-WR-TIMEZONE:Europe/Berlin
BEGIN:VEVENT
SUMMARY:ICWC book talk mit Jutta Koslowski: "Wer war Klaus Bonhoeffer?"
DTSTART;TZID=Europe/Berlin:20240423T183000
DTSTAMP:20260423T013921Z
UID:5e88e9b60fd74fcb95d6ea4b39955612@www.uni-marburg.de
CREATED:20240219T114308Z
DESCRIPTION:https://www.uni-marburg.de/de/icwc/aktuelles/termine/icwc-book
 -talk-mit-jutta-koslowski-wer-war-klaus-bonhoeffer\n
LAST-MODIFIED:20240219T144412Z
LOCATION:Seminargebäude Pilgrimstein 12\, Raum 305 (+3/0050)
URL:https://www.uni-marburg.de/de/icwc/aktuelles/termine/icwc-book-talk-mi
 t-jutta-koslowski-wer-war-klaus-bonhoeffer
END:VEVENT
BEGIN:VTIMEZONE
TZID:Europe/Berlin
X-LIC-LOCATION:Europe/Berlin
BEGIN:DAYLIGHT
DTSTART:20240331T030000
TZNAME:CEST
TZOFFSETFROM:+0100
TZOFFSETTO:+0200
END:DAYLIGHT
END:VTIMEZONE
END:VCALENDAR
