BEGIN:VCALENDAR
VERSION:2.0
PRODID:-//Plone.org//NONSGML plone.app.event//EN
X-WR-TIMEZONE:Europe/Berlin
BEGIN:VEVENT
SUMMARY:ICWC Monatskolloquium: "Harry Potter und die Gesetze der Macht"
DTSTART;TZID=Europe/Berlin:20250611T160000
DTEND;TZID=Europe/Berlin:20250611T180000
DTSTAMP:20260423T055330Z
UID:8ed9350308674f4e9340a646868f1149@www.uni-marburg.de
ATTENDEE;CN="Dr. Jannina Schäffer (FernUniversität in Hagen)";ROLE=REQ-P
 ARTICIPANT:Dr. Jannina Schäffer (FernUniversität in Hagen)
CREATED:20250414T094913Z
DESCRIPTION:https://www.uni-marburg.de/de/icwc/aktuelles/termine/icwc-mona
 tskolloquium-1\n
LAST-MODIFIED:20250522T093828Z
LOCATION:010 (SEM 00/0100) (Pilgrimstein 12\, Seminargebäude (B | 07))
URL:https://www.uni-marburg.de/de/icwc/aktuelles/termine/icwc-monatskolloq
 uium-1
END:VEVENT
BEGIN:VTIMEZONE
TZID:Europe/Berlin
X-LIC-LOCATION:Europe/Berlin
BEGIN:DAYLIGHT
DTSTART:20250330T030000
TZNAME:CEST
TZOFFSETFROM:+0100
TZOFFSETTO:+0200
END:DAYLIGHT
END:VTIMEZONE
END:VCALENDAR
