BEGIN:VCALENDAR
VERSION:2.0
PRODID:-//Plone.org//NONSGML plone.app.event//EN
X-WR-TIMEZONE:Europe/Berlin
BEGIN:VEVENT
SUMMARY:ICWC Monatskolloquium "Geschlechtsspezifische Argumentation im Vö
 lkerstrafrecht. Die Nürnberger Prozesse 1945-1949"
DTSTART;TZID=Europe/Berlin:20250716T160000
DTEND;TZID=Europe/Berlin:20250716T180000
DTSTAMP:20260422T201908Z
UID:cbfb3d6cbfe44eeaa2f90d4a4264c388@www.uni-marburg.de
ATTENDEE;CN="Lucie Kahlert ";ROLE=REQ-PARTICIPANT:Lucie Kahlert 
CREATED:20250414T095448Z
DESCRIPTION:https://www.uni-marburg.de/de/icwc/aktuelles/termine/icwc-mona
 tskolloquium-2\n
LAST-MODIFIED:20250626T092533Z
LOCATION:010 (SEM 00/0100) (Pilgrimstein 12\, Seminargebäude (B | 07))
URL:https://www.uni-marburg.de/de/icwc/aktuelles/termine/icwc-monatskolloq
 uium-2
END:VEVENT
BEGIN:VTIMEZONE
TZID:Europe/Berlin
X-LIC-LOCATION:Europe/Berlin
BEGIN:DAYLIGHT
DTSTART:20250330T030000
TZNAME:CEST
TZOFFSETFROM:+0100
TZOFFSETTO:+0200
END:DAYLIGHT
END:VTIMEZONE
END:VCALENDAR
