BEGIN:VCALENDAR
VERSION:2.0
PRODID:-//Plone.org//NONSGML plone.app.event//EN
X-WR-TIMEZONE:Europe/Berlin
BEGIN:VEVENT
SUMMARY:ICWC-Monatskolloquium: "Archives of Military Courts in Colonial Co
 ngo: New Sources for the History of Violence and Agency in Central Africa"
DTSTART;TZID=Europe/Berlin:20230628T160000
DTEND;TZID=Europe/Berlin:20230628T180000
DTSTAMP:20260426T002405Z
UID:caf7638b740746ada12ee1c1aee1b65c@www.uni-marburg.de
ATTENDEE;CN="Amandine Lauro (FNRS/Free University of Brussels) ";ROLE=REQ-
 PARTICIPANT:Amandine Lauro (FNRS/Free University of Brussels) 
CREATED:20230524T121026Z
DESCRIPTION:https://www.uni-marburg.de/de/icwc/aktuelles/termine/icwc-mona
 tskolloquium-archives-of-military-courts-in-colonial-congo-new-sources-for
 -the-history-of-violence-and-agency-in-central-africa\n
LAST-MODIFIED:20230607T094558Z
LOCATION:Raum +3/0070 (307) Savignyhaus\, Universitätsstraße 6 in Marbur
 g
URL:https://www.uni-marburg.de/de/icwc/aktuelles/termine/icwc-monatskolloq
 uium-archives-of-military-courts-in-colonial-congo-new-sources-for-the-his
 tory-of-violence-and-agency-in-central-africa
END:VEVENT
BEGIN:VTIMEZONE
TZID:Europe/Berlin
X-LIC-LOCATION:Europe/Berlin
BEGIN:DAYLIGHT
DTSTART:20230326T030000
TZNAME:CEST
TZOFFSETFROM:+0100
TZOFFSETTO:+0200
END:DAYLIGHT
END:VTIMEZONE
END:VCALENDAR
