BEGIN:VCALENDAR
VERSION:2.0
PRODID:-//Plone.org//NONSGML plone.app.event//EN
X-WR-TIMEZONE:Europe/Berlin
BEGIN:VEVENT
SUMMARY:ICWC-Monatskolloquium: "Der Papst gegen Nürnberg: Reaktionen der 
 katholischen Kirchenführung zu Kriegsverbrecherprozessen und Entnazifizie
 rung"
DTSTART;TZID=Europe/Berlin:20230524T160000
DTEND;TZID=Europe/Berlin:20230524T180000
DTSTAMP:20260426T053001Z
UID:c27d5c83ffe145e2ba14cbea23411937@www.uni-marburg.de
ATTENDEE;CN="Prof. Dr. Gerald Steinacher (University of Nebraska-Lincoln, 
 USA)";ROLE=REQ-PARTICIPANT:Prof. Dr. Gerald Steinacher (University of Nebr
 aska-Lincoln, USA)
CREATED:20230511T100744Z
DESCRIPTION:https://www.uni-marburg.de/de/icwc/aktuelles/termine/icwc-mona
 tskolloquium-der-papst-gegen-nuernberg-reaktionen-der-katholischen-kirchen
 fuehrung-zu-kriegsverbrecherprozessen-und-entnazifizierung\n
LAST-MODIFIED:20230511T100917Z
LOCATION:Raum +3/0070 (307) Savignyhaus\, Universitätsstraße 6 in Marbur
 g
URL:https://www.uni-marburg.de/de/icwc/aktuelles/termine/icwc-monatskolloq
 uium-der-papst-gegen-nuernberg-reaktionen-der-katholischen-kirchenfuehrung
 -zu-kriegsverbrecherprozessen-und-entnazifizierung
END:VEVENT
BEGIN:VTIMEZONE
TZID:Europe/Berlin
X-LIC-LOCATION:Europe/Berlin
BEGIN:DAYLIGHT
DTSTART:20230326T030000
TZNAME:CEST
TZOFFSETFROM:+0100
TZOFFSETTO:+0200
END:DAYLIGHT
END:VTIMEZONE
END:VCALENDAR
