BEGIN:VCALENDAR
VERSION:2.0
PRODID:-//Plone.org//NONSGML plone.app.event//EN
X-WR-TIMEZONE:Europe/Berlin
BEGIN:VEVENT
SUMMARY:ICWC-Monatskolloquium: "Völkerstrafrechtliche Prozesse in Deutsch
 land - Zwischen Selbstgespräch und Dialog"
DTSTART;TZID=Europe/Berlin:20240619T161500
DTEND;TZID=Europe/Berlin:20240619T174500
DTSTAMP:20260424T044356Z
UID:ec60449ca7854ec4a9cf92ab7c036a85@www.uni-marburg.de
CREATED:20240221T074349Z
DESCRIPTION:https://www.uni-marburg.de/de/icwc/aktuelles/termine/icwc-mona
 tskolloquium-mit-franziska-gruber\n
LAST-MODIFIED:20240604T151045Z
LOCATION:SH +3/0070 (307)\, Universitätsstraße 6
URL:https://www.uni-marburg.de/de/icwc/aktuelles/termine/icwc-monatskolloq
 uium-mit-franziska-gruber
END:VEVENT
BEGIN:VTIMEZONE
TZID:Europe/Berlin
X-LIC-LOCATION:Europe/Berlin
BEGIN:DAYLIGHT
DTSTART:20240331T030000
TZNAME:CEST
TZOFFSETFROM:+0100
TZOFFSETTO:+0200
END:DAYLIGHT
END:VTIMEZONE
END:VCALENDAR
