BEGIN:VCALENDAR
VERSION:2.0
PRODID:-//Plone.org//NONSGML plone.app.event//EN
X-WR-TIMEZONE:Europe/Berlin
BEGIN:VEVENT
SUMMARY:ICWC-Monatskolloquium "Technikkritische Diskurse über Interaktive
  Zeugnisse im Kontext digitaler Erinnerungskulturen an die Shoah"
DTSTART;TZID=Europe/Berlin:20240522T161500
DTEND;TZID=Europe/Berlin:20240522T174500
DTSTAMP:20260423T062506Z
UID:d9189bd756264240ab8b8cb31faaaeb8@www.uni-marburg.de
CREATED:20240221T074109Z
DESCRIPTION:https://www.uni-marburg.de/de/icwc/aktuelles/termine/icwc-mona
 tskolloquium-mit-janina-schwarz\n
LAST-MODIFIED:20240503T100009Z
LOCATION:SH +3/0070 (307)\, Universitätsstraße 6
URL:https://www.uni-marburg.de/de/icwc/aktuelles/termine/icwc-monatskolloq
 uium-mit-janina-schwarz
END:VEVENT
BEGIN:VTIMEZONE
TZID:Europe/Berlin
X-LIC-LOCATION:Europe/Berlin
BEGIN:DAYLIGHT
DTSTART:20240331T030000
TZNAME:CEST
TZOFFSETFROM:+0100
TZOFFSETTO:+0200
END:DAYLIGHT
END:VTIMEZONE
END:VCALENDAR
