BEGIN:VCALENDAR
VERSION:2.0
PRODID:-//Plone.org//NONSGML plone.app.event//EN
X-WR-TIMEZONE:Europe/Berlin
BEGIN:VEVENT
SUMMARY:ICWC-Monatskolloquium: "Universeller Partikularismus. Lehren aus d
 em interkulturellen und plurinationalen Staat"
DTSTART;TZID=Europe/Berlin:20231025T160000
DTEND;TZID=Europe/Berlin:20231025T180000
DTSTAMP:20260423T043732Z
UID:74aa6e2dee5b44cc871cae1658e4cc86@www.uni-marburg.de
ATTENDEE;CN="Dr. Andreas Gutmann (Universität Kassel)";ROLE=REQ-PARTICIPA
 NT:Dr. Andreas Gutmann (Universität Kassel)
CREATED:20230911T142233Z
DESCRIPTION:https://www.uni-marburg.de/de/icwc/aktuelles/termine/icwc-mona
 tskolloquium-universeller-partikularismus\n
LAST-MODIFIED:20231005T154411Z
LOCATION:Raum 207\, Landgrafenhaus\, Univeritätsstraße 7 in Marburg
URL:https://www.uni-marburg.de/de/icwc/aktuelles/termine/icwc-monatskolloq
 uium-universeller-partikularismus
END:VEVENT
BEGIN:VTIMEZONE
TZID:Europe/Berlin
X-LIC-LOCATION:Europe/Berlin
BEGIN:DAYLIGHT
DTSTART:20230326T030000
TZNAME:CEST
TZOFFSETFROM:+0100
TZOFFSETTO:+0200
END:DAYLIGHT
END:VTIMEZONE
END:VCALENDAR
