BEGIN:VCALENDAR
VERSION:2.0
PRODID:-//Plone.org//NONSGML plone.app.event//EN
X-WR-TIMEZONE:Europe/Berlin
BEGIN:VEVENT
SUMMARY:Info-Veranstaltung Nuremberg Moot Court 2024
DTSTART;TZID=Europe/Berlin:20231115T160000
DTEND;TZID=Europe/Berlin:20231115T170000
DTSTAMP:20260424T052613Z
UID:7ef1825f8f7f44ff9eee1f759d62bedd@www.uni-marburg.de
CREATED:20231027T094729Z
DESCRIPTION:https://www.uni-marburg.de/de/icwc/aktuelles/termine/info-vera
 nstaltung-nuremberg-moot-court-2024\n
LAST-MODIFIED:20231030T104628Z
LOCATION:Raum +1/0050 (105) im Savignyhaus\, Universitätsstraße 6
URL:https://www.uni-marburg.de/de/icwc/aktuelles/termine/info-veranstaltun
 g-nuremberg-moot-court-2024
END:VEVENT
BEGIN:VTIMEZONE
TZID:Europe/Berlin
X-LIC-LOCATION:Europe/Berlin
BEGIN:STANDARD
DTSTART:20231029T020000
TZNAME:CET
TZOFFSETFROM:+0200
TZOFFSETTO:+0100
END:STANDARD
END:VTIMEZONE
END:VCALENDAR
