BEGIN:VCALENDAR
VERSION:2.0
PRODID:-//Plone.org//NONSGML plone.app.event//EN
X-WR-TIMEZONE:Europe/Berlin
BEGIN:VEVENT
SUMMARY:Info-Veranstaltung zum Trial-Monitoring Programm
DTSTART;TZID=Europe/Berlin:20251022T170000
DTEND;TZID=Europe/Berlin:20251022T190000
DTSTAMP:20260423T095642Z
UID:1eb5035955fe40a0b06e8903e1037068@www.uni-marburg.de
CATEGORIES:()
CREATED:20251006T110525Z
DESCRIPTION:https://www.uni-marburg.de/de/icwc/aktuelles/termine/info-vera
 nstaltung-zum-trial-monitoring-programm\nInfo-Veranstaltung zum Trial-Moni
 toring Programm
LAST-MODIFIED:20251013T095903Z
LOCATION:Raum +2/0090 (209) im Landgrafenhaus
URL:https://www.uni-marburg.de/de/icwc/aktuelles/termine/info-veranstaltun
 g-zum-trial-monitoring-programm
END:VEVENT
BEGIN:VTIMEZONE
TZID:Europe/Berlin
X-LIC-LOCATION:Europe/Berlin
BEGIN:DAYLIGHT
DTSTART:20250330T030000
TZNAME:CEST
TZOFFSETFROM:+0100
TZOFFSETTO:+0200
END:DAYLIGHT
END:VTIMEZONE
END:VCALENDAR
