BEGIN:VCALENDAR
VERSION:2.0
PRODID:-//Plone.org//NONSGML plone.app.event//EN
X-WR-TIMEZONE:Europe/Berlin
BEGIN:VEVENT
SUMMARY:Info-Veranstaltung zum Trial-Monitoring Programme
DTSTART;TZID=Europe/Berlin:20231023T160000
DTEND;TZID=Europe/Berlin:20231023T170000
DTSTAMP:20260424T192448Z
UID:b55cd4075a9b4e19bdbed880d7233960@www.uni-marburg.de
CREATED:20230925T115028Z
DESCRIPTION:https://www.uni-marburg.de/de/icwc/aktuelles/termine/info-vera
 nstaltung-zum-trial-monitoring-programme-am-23-oktober\n
LAST-MODIFIED:20230925T150402Z
LOCATION:Raum LH 108 im Landgrafenhaus (Universitätsstraße 7)\, 1. Stock
URL:https://www.uni-marburg.de/de/icwc/aktuelles/termine/info-veranstaltun
 g-zum-trial-monitoring-programme-am-23-oktober
END:VEVENT
BEGIN:VTIMEZONE
TZID:Europe/Berlin
X-LIC-LOCATION:Europe/Berlin
BEGIN:DAYLIGHT
DTSTART:20230326T030000
TZNAME:CEST
TZOFFSETFROM:+0100
TZOFFSETTO:+0200
END:DAYLIGHT
END:VTIMEZONE
END:VCALENDAR
