BEGIN:VCALENDAR
VERSION:2.0
PRODID:-//Plone.org//NONSGML plone.app.event//EN
X-WR-TIMEZONE:Europe/Berlin
BEGIN:VEVENT
SUMMARY:Info-Veranstaltung: Den Haag-Exkursion der Fachschaft ICJ
DTSTART;TZID=Europe/Berlin:20231101T180000
DTEND;TZID=Europe/Berlin:20231101T190000
DTSTAMP:20260423T233145Z
UID:cd4f81f7959c479b8b906f3a31bd6d75@www.uni-marburg.de
CREATED:20231016T090226Z
DESCRIPTION:https://www.uni-marburg.de/de/icwc/aktuelles/termine/info-vera
 nstaltung-zur-den-haag-exkursion-der-fachschaft-icj\n
LAST-MODIFIED:20231017T103338Z
LOCATION:Raum 207\, Landgrafenhaus\, Universitätsstraße 7 in Marburg
URL:https://www.uni-marburg.de/de/icwc/aktuelles/termine/info-veranstaltun
 g-zur-den-haag-exkursion-der-fachschaft-icj
END:VEVENT
BEGIN:VTIMEZONE
TZID:Europe/Berlin
X-LIC-LOCATION:Europe/Berlin
BEGIN:STANDARD
DTSTART:20231029T020000
TZNAME:CET
TZOFFSETFROM:+0200
TZOFFSETTO:+0100
END:STANDARD
END:VTIMEZONE
END:VCALENDAR
