BEGIN:VCALENDAR
VERSION:2.0
PRODID:-//Plone.org//NONSGML plone.app.event//EN
X-WR-TIMEZONE:Europe/Berlin
BEGIN:VEVENT
SUMMARY:Informationsveranstaltung Erasmusprogramm FB01 für das akademisch
 e Jahr 2024/25
DTSTART;TZID=Europe/Berlin:20231106T180000
DTEND;TZID=Europe/Berlin:20231106T200000
DTSTAMP:20260425T002725Z
UID:f832988804a24209850afd74a793e823@www.uni-marburg.de
CREATED:20231005T080512Z
DESCRIPTION:https://www.uni-marburg.de/de/icwc/aktuelles/termine/informati
 onsveranstaltung-erasmusprogramm-fb01-fuer-das-akademische-jahr-2024-25\n
LAST-MODIFIED:20231027T112128Z
LOCATION:Raum LH 108\, Landgrafenhaus\, Universitätsstraße 7
URL:https://www.uni-marburg.de/de/icwc/aktuelles/termine/informationsveran
 staltung-erasmusprogramm-fb01-fuer-das-akademische-jahr-2024-25
END:VEVENT
BEGIN:VTIMEZONE
TZID:Europe/Berlin
X-LIC-LOCATION:Europe/Berlin
BEGIN:STANDARD
DTSTART:20231029T020000
TZNAME:CET
TZOFFSETFROM:+0200
TZOFFSETTO:+0100
END:STANDARD
END:VTIMEZONE
END:VCALENDAR
