BEGIN:VCALENDAR
VERSION:2.0
PRODID:-//Plone.org//NONSGML plone.app.event//EN
X-WR-TIMEZONE:Europe/Berlin
BEGIN:VEVENT
SUMMARY:Jahresfeier des ICWC und 16. Marburger Vorlesung zum Völkerstrafr
 echt
DTSTART;TZID=Europe/Berlin:20251119T180000
DTSTAMP:20260425T020433Z
UID:753e674abde144dcb1fce9075d8c9b65@www.uni-marburg.de
CATEGORIES:()
CREATED:20250703T090728Z
DESCRIPTION:https://www.uni-marburg.de/de/icwc/aktuelles/termine/jahresfei
 er-des-icwc-und-16-marburger-vorlesung-zum-voelkerstrafrecht\n
LAST-MODIFIED:20251006T104801Z
LOCATION:DSA-Gebäude in Marburg\, Pilgrimstein 16\, 35037 Marburg
URL:https://www.uni-marburg.de/de/icwc/aktuelles/termine/jahresfeier-des-i
 cwc-und-16-marburger-vorlesung-zum-voelkerstrafrecht
END:VEVENT
BEGIN:VTIMEZONE
TZID:Europe/Berlin
X-LIC-LOCATION:Europe/Berlin
BEGIN:STANDARD
DTSTART:20251026T020000
TZNAME:CET
TZOFFSETFROM:+0200
TZOFFSETTO:+0100
END:STANDARD
END:VTIMEZONE
END:VCALENDAR
