BEGIN:VCALENDAR
VERSION:2.0
PRODID:-//Plone.org//NONSGML plone.app.event//EN
X-WR-TIMEZONE:Europe/Berlin
BEGIN:VEVENT
SUMMARY:Master-Infotag an der Philipps-Universität Marburg: Das ICWC ist 
 dabei!
DTSTART;TZID=Europe/Berlin:20250613T100000
DTEND;TZID=Europe/Berlin:20250613T173000
DTSTAMP:20260423T232945Z
UID:86488ae3797743f798c77d4791584bab@www.uni-marburg.de
CREATED:20250519T113911Z
DESCRIPTION:https://www.uni-marburg.de/de/icwc/aktuelles/termine/master-in
 fotag-an-der-philipps-universitaet-marburg\n
LAST-MODIFIED:20250519T114227Z
LOCATION:Online
URL:https://www.uni-marburg.de/de/icwc/aktuelles/termine/master-infotag-an
 -der-philipps-universitaet-marburg
END:VEVENT
BEGIN:VTIMEZONE
TZID:Europe/Berlin
X-LIC-LOCATION:Europe/Berlin
BEGIN:DAYLIGHT
DTSTART:20250330T030000
TZNAME:CEST
TZOFFSETFROM:+0100
TZOFFSETTO:+0200
END:DAYLIGHT
END:VTIMEZONE
END:VCALENDAR
