BEGIN:VCALENDAR
VERSION:2.0
PRODID:-//Plone.org//NONSGML plone.app.event//EN
X-WR-TIMEZONE:Europe/Berlin
BEGIN:VEVENT
SUMMARY:Master-Infotag
DTSTART;VALUE=DATE:20240607
DTEND;VALUE=DATE:20240608
DTSTAMP:20260422T202128Z
UID:3fab8a11e8224eff82d56ea67e67dba5@www.uni-marburg.de
CREATED:20240531T122120Z
DESCRIPTION:https://www.uni-marburg.de/de/icwc/aktuelles/termine/master-in
 fotag\n
LAST-MODIFIED:20240531T125348Z
LOCATION:Online-Veranstaltung der Philipps-Universität Marburg
URL:https://www.uni-marburg.de/de/icwc/aktuelles/termine/master-infotag
END:VEVENT
END:VCALENDAR
