BEGIN:VCALENDAR
VERSION:2.0
PRODID:-//Plone.org//NONSGML plone.app.event//EN
X-WR-TIMEZONE:Europe/Berlin
BEGIN:VEVENT
SUMMARY:Monatskolloquium 07.12.22 - 20 Jahre Völkerstrafgesetzbuch - Prof
 . Dr. Stefanie Bock
DTSTART;TZID=Europe/Berlin:20221207T160000
DTEND;TZID=Europe/Berlin:20221207T180000
DTSTAMP:20260425T024821Z
UID:a808ad34772147de95dac45d3d72b7ce@www.uni-marburg.de
ATTENDEE;CN="Prof. Dr. Stefanie Bock";ROLE=REQ-PARTICIPANT:Prof. Dr. Stefa
 nie Bock
CREATED:20221124T100105Z
DESCRIPTION:https://www.uni-marburg.de/de/icwc/aktuelles/termine/monatskol
 loquium-07-12-22-20-jahre-voelkerstrafgesetzbuch-prof-dr-stefanie-bock\n
LAST-MODIFIED:20221124T142806Z
LOCATION:Raum +2/0010 Landgrafenhaus\; Universitätsstraße 7
URL:https://www.uni-marburg.de/de/icwc/aktuelles/termine/monatskolloquium-
 07-12-22-20-jahre-voelkerstrafgesetzbuch-prof-dr-stefanie-bock
END:VEVENT
BEGIN:VTIMEZONE
TZID:Europe/Berlin
X-LIC-LOCATION:Europe/Berlin
BEGIN:STANDARD
DTSTART:20221030T020000
TZNAME:CET
TZOFFSETFROM:+0200
TZOFFSETTO:+0100
END:STANDARD
END:VTIMEZONE
END:VCALENDAR
