BEGIN:VCALENDAR
VERSION:2.0
PRODID:-//Plone.org//NONSGML plone.app.event//EN
X-WR-TIMEZONE:Europe/Berlin
BEGIN:VEVENT
SUMMARY:Monatskolloquium im Juni: » I don't see gender « - the gendered 
 conceptualization of international crimes with reference to the cases of f
 emale ISIS perpetrators before German Higher Regional Courts
DTSTART;TZID=Europe/Berlin:20220629T161500
DTEND;TZID=Europe/Berlin:20220629T174500
DTSTAMP:20260426T003449Z
UID:8207524baea04bf4a455598cf2cea3d8@www.uni-marburg.de
ATTENDEE;CN="Jana Trapp (Universiteit van Amsterdam & Columbia University)
  ";ROLE=REQ-PARTICIPANT:Jana Trapp (Universiteit van Amsterdam & Columbia 
 University) 
CREATED:20220620T075203Z
DESCRIPTION:https://www.uni-marburg.de/de/icwc/aktuelles/termine/monatskol
 loquium-im-juni-i-dont-see-gender-the-gendered-conceptualization-of-intern
 ational-crimes-with-reference-to-the-cases-of-female-isis-perpetrators-bef
 ore-german-higher-regional-courts\n
LAST-MODIFIED:20220620T075257Z
LOCATION:Online via Zoom
URL:https://www.uni-marburg.de/de/icwc/aktuelles/termine/monatskolloquium-
 im-juni-i-dont-see-gender-the-gendered-conceptualization-of-international-
 crimes-with-reference-to-the-cases-of-female-isis-perpetrators-before-germ
 an-higher-regional-courts
END:VEVENT
BEGIN:VTIMEZONE
TZID:Europe/Berlin
X-LIC-LOCATION:Europe/Berlin
BEGIN:DAYLIGHT
DTSTART:20220327T030000
TZNAME:CEST
TZOFFSETFROM:+0100
TZOFFSETTO:+0200
END:DAYLIGHT
END:VTIMEZONE
END:VCALENDAR
