BEGIN:VCALENDAR
VERSION:2.0
PRODID:-//Plone.org//NONSGML plone.app.event//EN
X-WR-TIMEZONE:Europe/Berlin
BEGIN:VEVENT
SUMMARY:Monatskolloquium Januar 2020 - Das ICWC lädt ein zum Vortrag von 
 Nicolai Bülte: Kulturrelativismus in den Tatbeständen des Rom-Statuts
DTSTART;TZID=Europe/Berlin:20200129T161500
DTEND;TZID=Europe/Berlin:20200129T174500
DTSTAMP:20260423T055331Z
UID:35437d9c884f4874b0a08a1acb7a72ee@www.uni-marburg.de
ATTENDEE;CN="Nicolai Bülte (Fachbereich Rechtswissenschaften der Philipps
 -Universität Marburg)";ROLE=REQ-PARTICIPANT:Nicolai Bülte (Fachbereich R
 echtswissenschaften der Philipps-Universität Marburg)
CREATED:20200123T144947Z
DESCRIPTION:https://www.uni-marburg.de/de/icwc/aktuelles/termine/monatskol
 loquium-januar-2020\nAm Mittwoch\, dem 29. Januar 2020\, wird Herr Nicolai
  Bülte vom Fachbereich Rechtswissenschaften der Philipps-Universität Mar
 burg im Rahmen des ICWC-Monatskolloquiums zum Thema "Kulturrelativismus in
  den Tatbeständen des Rom-Statuts" referieren. Wir laden Sie dazu herzlic
 h ein!
LAST-MODIFIED:20200128T112724Z
LOCATION:Savignyhaus\, Raum SH 312\, Universitätsstr. 6 (3. Stock)
URL:https://www.uni-marburg.de/de/icwc/aktuelles/termine/monatskolloquium-
 januar-2020
END:VEVENT
BEGIN:VTIMEZONE
TZID:Europe/Berlin
X-LIC-LOCATION:Europe/Berlin
BEGIN:STANDARD
DTSTART:20191027T020000
TZNAME:CET
TZOFFSETFROM:+0200
TZOFFSETTO:+0100
END:STANDARD
END:VTIMEZONE
END:VCALENDAR
