BEGIN:VCALENDAR
VERSION:2.0
PRODID:-//Plone.org//NONSGML plone.app.event//EN
X-WR-TIMEZONE:Europe/Berlin
BEGIN:VEVENT
SUMMARY:Monatskolloquium November 2019 - Das ICWC lädt ein zum Vortrag vo
 n Dr. Gurgen Petrossian: Verantwortlichkeit für Völkermord - Der Fall Ar
 menien
DTSTART;TZID=Europe/Berlin:20191120T161500
DTEND;TZID=Europe/Berlin:20191120T174500
DTSTAMP:20260426T053208Z
UID:0ba80d8092704964bcbb104967a9a77f@www.uni-marburg.de
ATTENDEE;CN="Dr. Gurgen Petrossian, LL.M.";ROLE=REQ-PARTICIPANT:Dr. Gurgen
  Petrossian, LL.M.
CREATED:20191114T213204Z
DESCRIPTION:https://www.uni-marburg.de/de/icwc/aktuelles/termine/monatskol
 loquium-november-2019-das-icwc-laedt-ein-zum-vortrag-von-dr-gurgen-petross
 ian-verantwortlichkeit-fuer-voelkermord-der-fall-armenien\nAm 20. November
  2019 wird Herr Dr. Gurgen Petrossian von der Friedrich-Alexander-Universi
 tät Erlangen-Nürnberg im Rahmen des ICWC-Monatskolloquiums zum Thema "Ve
 rantwortlichkeit für Völkermord - Der Fall Armenien" referieren. Wir lad
 en Sie dazu herzlich ein!
LAST-MODIFIED:20191114T213235Z
LOCATION:Savignyhaus\, Raum SH 312\, Universitätsstr. 6 (3. Stock)
URL:https://www.uni-marburg.de/de/icwc/aktuelles/termine/monatskolloquium-
 november-2019-das-icwc-laedt-ein-zum-vortrag-von-dr-gurgen-petrossian-vera
 ntwortlichkeit-fuer-voelkermord-der-fall-armenien
END:VEVENT
BEGIN:VTIMEZONE
TZID:Europe/Berlin
X-LIC-LOCATION:Europe/Berlin
BEGIN:STANDARD
DTSTART:20191027T020000
TZNAME:CET
TZOFFSETFROM:+0200
TZOFFSETTO:+0100
END:STANDARD
END:VTIMEZONE
END:VCALENDAR
