BEGIN:VCALENDAR
VERSION:2.0
PRODID:-//Plone.org//NONSGML plone.app.event//EN
X-WR-TIMEZONE:Europe/Berlin
BEGIN:VEVENT
SUMMARY:Orientierungswoche M.A. Internationale Strafjustiz
DTSTART;TZID=Europe/Berlin:20231009T100000
DTEND;TZID=Europe/Berlin:20231013T180000
DTSTAMP:20260423T000718Z
UID:26fec4a8da254ffda344753063abb5e4@www.uni-marburg.de
CREATED:20230911T102757Z
DESCRIPTION:https://www.uni-marburg.de/de/icwc/aktuelles/termine/orientier
 ungswoche-m-a-internationale-strafjustiz\n
LAST-MODIFIED:20230929T121906Z
LOCATION:Philipps-Universität Marburg
URL:https://www.uni-marburg.de/de/icwc/aktuelles/termine/orientierungswoch
 e-m-a-internationale-strafjustiz
END:VEVENT
BEGIN:VTIMEZONE
TZID:Europe/Berlin
X-LIC-LOCATION:Europe/Berlin
BEGIN:DAYLIGHT
DTSTART:20230326T030000
TZNAME:CEST
TZOFFSETFROM:+0100
TZOFFSETTO:+0200
END:DAYLIGHT
END:VTIMEZONE
END:VCALENDAR
