BEGIN:VCALENDAR
VERSION:2.0
PRODID:-//Plone.org//NONSGML plone.app.event//EN
X-WR-TIMEZONE:Europe/Berlin
BEGIN:VEVENT
SUMMARY:Orientierungswoche
DTSTART;TZID=Europe/Berlin:20241007T100000
DTEND;TZID=Europe/Berlin:20241010T200000
DTSTAMP:20260423T005143Z
UID:6600d245130e4066bf30d7261dd62c2a@www.uni-marburg.de
CREATED:20240930T125129Z
DESCRIPTION:https://www.uni-marburg.de/de/icwc/aktuelles/termine/orientier
 ungswoche\n
LAST-MODIFIED:20241001T072039Z
LOCATION:Philipps-Universität Marburg
URL:https://www.uni-marburg.de/de/icwc/aktuelles/termine/orientierungswoch
 e
END:VEVENT
BEGIN:VTIMEZONE
TZID:Europe/Berlin
X-LIC-LOCATION:Europe/Berlin
BEGIN:DAYLIGHT
DTSTART:20240331T030000
TZNAME:CEST
TZOFFSETFROM:+0100
TZOFFSETTO:+0200
END:DAYLIGHT
END:VTIMEZONE
END:VCALENDAR
