BEGIN:VCALENDAR
VERSION:2.0
PRODID:-//Plone.org//NONSGML plone.app.event//EN
X-WR-TIMEZONE:Europe/Berlin
BEGIN:VEVENT
SUMMARY:Vortrag "Zur historischen Prekarität von Recht im Verhältnis zu 
 Geschlecht und 'Rasse'" am 04. Juli 2023
DTSTART;TZID=Europe/Berlin:20230704T180000
DTEND;TZID=Europe/Berlin:20230704T200000
DTSTAMP:20260424T053619Z
UID:92655ef92979414f8911779ba8cec4c6@www.uni-marburg.de
ATTENDEE;CN="Matti Traußneck, Philipps-Universität Marburg";ROLE=REQ-PAR
 TICIPANT:Matti Traußneck, Philipps-Universität Marburg
CREATED:20230413T154211Z
DESCRIPTION:https://www.uni-marburg.de/de/icwc/aktuelles/termine/ringvorle
 sung-gender-im-voelkerstrafrecht-am-04-juli-2023\n
LAST-MODIFIED:20230623T085123Z
LOCATION:Raum +2/0090 im Hörsaalgebäude\, Biegenstraße 14 in Marburg
URL:https://www.uni-marburg.de/de/icwc/aktuelles/termine/ringvorlesung-gen
 der-im-voelkerstrafrecht-am-04-juli-2023
END:VEVENT
BEGIN:VTIMEZONE
TZID:Europe/Berlin
X-LIC-LOCATION:Europe/Berlin
BEGIN:DAYLIGHT
DTSTART:20230326T030000
TZNAME:CEST
TZOFFSETFROM:+0100
TZOFFSETTO:+0200
END:DAYLIGHT
END:VTIMEZONE
END:VCALENDAR
