BEGIN:VCALENDAR
VERSION:2.0
PRODID:-//Plone.org//NONSGML plone.app.event//EN
X-WR-TIMEZONE:Europe/Berlin
BEGIN:VEVENT
SUMMARY:Deutsche Gerichte auf dem Weg zu einem geschlechtergerechten Völk
 erstrafrecht?
DTSTART;TZID=Europe/Berlin:20230606T180000
DTEND;TZID=Europe/Berlin:20230606T200000
DTSTAMP:20260423T222604Z
UID:38098289dae44a7d8481007249ea8a07@www.uni-marburg.de
ATTENDEE;CN="Dr. Alexander Schwarz, Senior Legal Advisor for International
  Criminal Justice, Tunis";ROLE=REQ-PARTICIPANT:Dr. Alexander Schwarz, Seni
 or Legal Advisor for International Criminal Justice, Tunis
CREATED:20230412T195553Z
DESCRIPTION:https://www.uni-marburg.de/de/icwc/aktuelles/termine/ringvorle
 sung-gender-im-voelkerstrafrecht-am-06-juni-2023\n
LAST-MODIFIED:20230526T091656Z
LOCATION:Raum +2/0090 im Hörsaalgebäude\, Biegenstraße 14 in Marburg
URL:https://www.uni-marburg.de/de/icwc/aktuelles/termine/ringvorlesung-gen
 der-im-voelkerstrafrecht-am-06-juni-2023
END:VEVENT
BEGIN:VTIMEZONE
TZID:Europe/Berlin
X-LIC-LOCATION:Europe/Berlin
BEGIN:DAYLIGHT
DTSTART:20230326T030000
TZNAME:CEST
TZOFFSETFROM:+0100
TZOFFSETTO:+0200
END:DAYLIGHT
END:VTIMEZONE
END:VCALENDAR
