BEGIN:VCALENDAR
VERSION:2.0
PRODID:-//Plone.org//NONSGML plone.app.event//EN
X-WR-TIMEZONE:Europe/Berlin
BEGIN:VEVENT
SUMMARY:Vortrag "Warum brauchen wir Gender-Perspektiven im Völkerstrafrec
 ht?" am 09. Mai 2023
DTSTART;TZID=Europe/Berlin:20230509T180000
DTEND;TZID=Europe/Berlin:20230509T200000
DTSTAMP:20260424T112702Z
UID:70b0d463f1e442b1b1c4d26b657e8f83@www.uni-marburg.de
ATTENDEE;CN="Prof. Dr. Stefanie Bock, Philipps-Universität Marburg";ROLE=
 REQ-PARTICIPANT:Prof. Dr. Stefanie Bock, Philipps-Universität Marburg
CREATED:20230412T195553Z
DESCRIPTION:https://www.uni-marburg.de/de/icwc/aktuelles/termine/ringvorle
 sung-gender-im-voelkerstrafrecht-am-09-mai-2023\n
LAST-MODIFIED:20230426T071508Z
LOCATION:Raum +2/0090 im Hörsaalgebäude\, Biegenstraße 14 in Marburg
URL:https://www.uni-marburg.de/de/icwc/aktuelles/termine/ringvorlesung-gen
 der-im-voelkerstrafrecht-am-09-mai-2023
END:VEVENT
BEGIN:VTIMEZONE
TZID:Europe/Berlin
X-LIC-LOCATION:Europe/Berlin
BEGIN:DAYLIGHT
DTSTART:20230326T030000
TZNAME:CEST
TZOFFSETFROM:+0100
TZOFFSETTO:+0200
END:DAYLIGHT
END:VTIMEZONE
END:VCALENDAR
