BEGIN:VCALENDAR
VERSION:2.0
PRODID:-//Plone.org//NONSGML plone.app.event//EN
X-WR-TIMEZONE:Europe/Berlin
BEGIN:VEVENT
SUMMARY:Vortrag "\,Geschlechter(Un)Ordnungen‘ - NS-Verbrecherinnen vor w
 est- deutschen Gerichten (1945-1952)" am 23. Mai 2023
DTSTART;TZID=Europe/Berlin:20230523T180000
DTEND;TZID=Europe/Berlin:20230523T200000
DTSTAMP:20260424T131757Z
UID:dcfadd9340e3475ea183eafc261b83f0@www.uni-marburg.de
ATTENDEE;CN="Dr. Susanne Raidt, Pädagogische Hochschule Freiburg";ROLE=RE
 Q-PARTICIPANT:Dr. Susanne Raidt, Pädagogische Hochschule Freiburg
CREATED:20230412T195553Z
DESCRIPTION:https://www.uni-marburg.de/de/icwc/aktuelles/termine/ringvorle
 sung-gender-im-voelkerstrafrecht-am-23-mai-2023\n
LAST-MODIFIED:20230511T064309Z
LOCATION:Raum +2/0090 im Hörsaalgebäude\, Biegenstraße 14 in Marburg
URL:https://www.uni-marburg.de/de/icwc/aktuelles/termine/ringvorlesung-gen
 der-im-voelkerstrafrecht-am-23-mai-2023
END:VEVENT
BEGIN:VTIMEZONE
TZID:Europe/Berlin
X-LIC-LOCATION:Europe/Berlin
BEGIN:DAYLIGHT
DTSTART:20230326T030000
TZNAME:CEST
TZOFFSETFROM:+0100
TZOFFSETTO:+0200
END:DAYLIGHT
END:VTIMEZONE
END:VCALENDAR
