BEGIN:VCALENDAR
VERSION:2.0
PRODID:-//Plone.org//NONSGML plone.app.event//EN
X-WR-TIMEZONE:Europe/Berlin
BEGIN:VEVENT
SUMMARY:Ringvorlesung „Gender im Völkerstrafrecht“ am 25. April 2023
DTSTART;TZID=Europe/Berlin:20230425T180000
DTEND;TZID=Europe/Berlin:20230425T200000
DTSTAMP:20260424T113052Z
UID:0b29da1045114c658091a98aec62a145@www.uni-marburg.de
ATTENDEE;CN="Dr.in Inga Nüthen und Dr.in Mariel Reiss, Philipps-Universit
 ät Marburg";ROLE=REQ-PARTICIPANT:Dr.in Inga Nüthen und Dr.in Mariel Reis
 s, Philipps-Universität Marburg
CREATED:20230411T153741Z
DESCRIPTION:https://www.uni-marburg.de/de/icwc/aktuelles/termine/ringvorle
 sung-gender-im-voelkerstrafrecht-am-25-april-2023\n
LAST-MODIFIED:20230412T090802Z
LOCATION:Raum +2/0090 im Hörsaalgebäude\, Biegenstraße 14 in Marburg
URL:https://www.uni-marburg.de/de/icwc/aktuelles/termine/ringvorlesung-gen
 der-im-voelkerstrafrecht-am-25-april-2023
END:VEVENT
BEGIN:VTIMEZONE
TZID:Europe/Berlin
X-LIC-LOCATION:Europe/Berlin
BEGIN:DAYLIGHT
DTSTART:20230326T030000
TZNAME:CEST
TZOFFSETFROM:+0100
TZOFFSETTO:+0200
END:DAYLIGHT
END:VTIMEZONE
END:VCALENDAR
