BEGIN:VCALENDAR
VERSION:2.0
PRODID:-//Plone.org//NONSGML plone.app.event//EN
X-WR-TIMEZONE:Europe/Berlin
BEGIN:VEVENT
SUMMARY:Ringvorlesung zu "Grenzüberschreitungen in interkulturellen Krieg
 en in Ostafrika (1889-1914)"
DTSTART;TZID=Europe/Berlin:20241203T181500
DTEND;TZID=Europe/Berlin:20241203T194500
DTSTAMP:20260423T005615Z
UID:f71c188a99a7480591518f5eaad0b899@www.uni-marburg.de
ATTENDEE;CN="Prof.in. Tanja Bührer";ROLE=REQ-PARTICIPANT:Prof.in. Tanja B
 ührer
CREATED:20240930T134121Z
DESCRIPTION:https://www.uni-marburg.de/de/icwc/aktuelles/termine/ringvorle
 sung-mit-prof-in-tanja-buehrer\n
LAST-MODIFIED:20241022T103441Z
LOCATION:101 (SEM +1/0010) (Pilgrimstein 12\, Seminargebäude (B | 07))
URL:https://www.uni-marburg.de/de/icwc/aktuelles/termine/ringvorlesung-mit
 -prof-in-tanja-buehrer
END:VEVENT
BEGIN:VTIMEZONE
TZID:Europe/Berlin
X-LIC-LOCATION:Europe/Berlin
BEGIN:STANDARD
DTSTART:20241027T020000
TZNAME:CET
TZOFFSETFROM:+0200
TZOFFSETTO:+0100
END:STANDARD
END:VTIMEZONE
END:VCALENDAR
