BEGIN:VCALENDAR
VERSION:2.0
PRODID:-//Plone.org//NONSGML plone.app.event//EN
X-WR-TIMEZONE:Europe/Berlin
BEGIN:VEVENT
SUMMARY:Ringvorlesung zu "Militär darf Gewalt!  Über Grenzen\, Grenzvers
 chiebungen und Grenzüberschreitung kollektiver Gewaltsamkeiten"
DTSTART;TZID=Europe/Berlin:20241119T181500
DTEND;TZID=Europe/Berlin:20241119T191500
DTSTAMP:20260425T002500Z
UID:f782c2675246448c99b33f215ac436c4@www.uni-marburg.de
ATTENDEE;CN="Dr. Frank Reichherzer";ROLE=REQ-PARTICIPANT:Dr. Frank Reichhe
 rzer
CREATED:20241029T160155Z
DESCRIPTION:https://www.uni-marburg.de/de/icwc/aktuelles/termine/ringvorle
 sung-zu-militaer-darf-gewalt-ueber-grenzen-grenzverschiebungen-und-grenzue
 berschreitung-kollektiver-gewaltsamkeiten\n
LAST-MODIFIED:20241031T122234Z
LOCATION:101 (SEM +1/0010) (Pilgrimstein 12\, Seminargebäude (B | 07))
URL:https://www.uni-marburg.de/de/icwc/aktuelles/termine/ringvorlesung-zu-
 militaer-darf-gewalt-ueber-grenzen-grenzverschiebungen-und-grenzueberschre
 itung-kollektiver-gewaltsamkeiten
END:VEVENT
BEGIN:VTIMEZONE
TZID:Europe/Berlin
X-LIC-LOCATION:Europe/Berlin
BEGIN:STANDARD
DTSTART:20241027T020000
TZNAME:CET
TZOFFSETFROM:+0200
TZOFFSETTO:+0100
END:STANDARD
END:VTIMEZONE
END:VCALENDAR
