BEGIN:VCALENDAR
VERSION:2.0
PRODID:-//Plone.org//NONSGML plone.app.event//EN
X-WR-TIMEZONE:Europe/Berlin
BEGIN:VEVENT
SUMMARY:Ringvorlesung zu "Safeguarding Children from Sexual Abuse in Confl
 ict and Crisis Zones"
DTSTART;TZID=Europe/Berlin:20250114T181500
DTEND;TZID=Europe/Berlin:20250114T194500
DTSTAMP:20260425T131245Z
UID:9e1b1f2e563c444793954f60a9c5400e@www.uni-marburg.de
ATTENDEE;CN="Prof.in. Rosa Freedman";ROLE=REQ-PARTICIPANT:Prof.in. Rosa Fr
 eedman
ATTENDEE;CN="Prof.in. Sarah Blakemore";ROLE=REQ-PARTICIPANT:Prof.in. Sarah
  Blakemore
CREATED:20240930T134623Z
DESCRIPTION:https://www.uni-marburg.de/de/icwc/aktuelles/termine/ringvorle
 sung-zu-safeguarding-children-from-sexual-abuse-in-conflict-and-crisis-zon
 es\n
LAST-MODIFIED:20241022T103647Z
LOCATION:101 (SEM +1/0010) (Pilgrimstein 12\, Seminargebäude (B | 07))
URL:https://www.uni-marburg.de/de/icwc/aktuelles/termine/ringvorlesung-zu-
 safeguarding-children-from-sexual-abuse-in-conflict-and-crisis-zones
END:VEVENT
BEGIN:VTIMEZONE
TZID:Europe/Berlin
X-LIC-LOCATION:Europe/Berlin
BEGIN:STANDARD
DTSTART:20241027T020000
TZNAME:CET
TZOFFSETFROM:+0200
TZOFFSETTO:+0100
END:STANDARD
END:VTIMEZONE
END:VCALENDAR
