BEGIN:VCALENDAR
VERSION:2.0
PRODID:-//Plone.org//NONSGML plone.app.event//EN
X-WR-TIMEZONE:Europe/Berlin
BEGIN:VEVENT
SUMMARY:Sommerfest des ICWC
DTSTART;TZID=Europe/Berlin:20240620T170000
DTSTAMP:20260423T005619Z
UID:1b9d94674d224f44a5c19b6fef94722c@www.uni-marburg.de
CREATED:20240604T154121Z
DESCRIPTION:https://www.uni-marburg.de/de/icwc/aktuelles/termine/sommerfes
 t-des-icwc\n
LAST-MODIFIED:20240613T133858Z
LOCATION:Innenhof der Philosophischen Fakultät\, Wilhelm‐Röpke‐Stra
 ße 6\, 35039 Marburg
URL:https://www.uni-marburg.de/de/icwc/aktuelles/termine/sommerfest-des-ic
 wc
END:VEVENT
BEGIN:VTIMEZONE
TZID:Europe/Berlin
X-LIC-LOCATION:Europe/Berlin
BEGIN:DAYLIGHT
DTSTART:20240331T030000
TZNAME:CEST
TZOFFSETFROM:+0100
TZOFFSETTO:+0200
END:DAYLIGHT
END:VTIMEZONE
END:VCALENDAR
