BEGIN:VCALENDAR
VERSION:2.0
PRODID:-//Plone.org//NONSGML plone.app.event//EN
X-WR-TIMEZONE:Europe/Berlin
BEGIN:VEVENT
SUMMARY:"Staat ohne Souveränität? Das Beispiel der Bundesrepublik Deutsc
 hland" - Öffentlicher Vortrag mit Prof. Dr. Dieter Gosewinkel
DTSTART;TZID=Europe/Berlin:20240515T180000
DTEND;TZID=Europe/Berlin:20240515T200000
DTSTAMP:20260425T131254Z
UID:8562527c44c245e790c3d868ba5a3550@www.uni-marburg.de
ATTENDEE;CN="Prof. Dr. Dieter Gosewinkel (Wissenschaftszentrum Berlin für
  Sozialforschung)";ROLE=REQ-PARTICIPANT:Prof. Dr. Dieter Gosewinkel (Wisse
 nschaftszentrum Berlin für Sozialforschung)
CREATED:20240507T082445Z
DESCRIPTION:https://www.uni-marburg.de/de/icwc/aktuelles/termine/staat-ohn
 e-souveraenitaet-das-beispiel-der-bundesrepublik-deutschland-oeffentlicher
 -vortrag-mit-prof-dr-dieter-gosewinkel\n
LAST-MODIFIED:20240507T082706Z
LOCATION:Raum 09C12\, Philosophische Fakultät\, Wilhelm-Röpke-Straße 6c
 \, Marburg
URL:https://www.uni-marburg.de/de/icwc/aktuelles/termine/staat-ohne-souver
 aenitaet-das-beispiel-der-bundesrepublik-deutschland-oeffentlicher-vortrag
 -mit-prof-dr-dieter-gosewinkel
END:VEVENT
BEGIN:VTIMEZONE
TZID:Europe/Berlin
X-LIC-LOCATION:Europe/Berlin
BEGIN:DAYLIGHT
DTSTART:20240331T030000
TZNAME:CEST
TZOFFSETFROM:+0100
TZOFFSETTO:+0200
END:DAYLIGHT
END:VTIMEZONE
END:VCALENDAR
