BEGIN:VCALENDAR
VERSION:2.0
PRODID:-//Plone.org//NONSGML plone.app.event//EN
X-WR-TIMEZONE:Europe/Berlin
BEGIN:VEVENT
SUMMARY:"Strafbestand Schwangerschaftsabbruch"
DTSTART;TZID=Europe/Berlin:20250130T190000
DTEND;TZID=Europe/Berlin:20250130T210000
DTSTAMP:20260422T220649Z
UID:e60a11af54184f679ead009431292dfc@www.uni-marburg.de
ATTENDEE;CN="Prof.'in Dr.'in Liane Wörner, LL.M. (UW-Madison) Universitä
 t Konstanz";ROLE=REQ-PARTICIPANT:Prof.'in Dr.'in Liane Wörner, LL.M. (UW-
 Madison) Universität Konstanz
CREATED:20250127T082805Z
DESCRIPTION:https://www.uni-marburg.de/de/icwc/aktuelles/termine/strafbest
 and-schwangerschaftsabbruch\n
LAST-MODIFIED:20250127T083103Z
LOCATION:Technologie- und Tagungszentrum Marburg\, Software-Cente 3
URL:https://www.uni-marburg.de/de/icwc/aktuelles/termine/strafbestand-schw
 angerschaftsabbruch
END:VEVENT
BEGIN:VTIMEZONE
TZID:Europe/Berlin
X-LIC-LOCATION:Europe/Berlin
BEGIN:STANDARD
DTSTART:20241027T020000
TZNAME:CET
TZOFFSETFROM:+0200
TZOFFSETTO:+0100
END:STANDARD
END:VTIMEZONE
END:VCALENDAR
