BEGIN:VCALENDAR
VERSION:2.0
PRODID:-//Plone.org//NONSGML plone.app.event//EN
X-WR-TIMEZONE:Europe/Berlin
BEGIN:VEVENT
SUMMARY:Studentische Vollversammlung
DTSTART;TZID=Europe/Berlin:20220202T180000
DTSTAMP:20260423T054858Z
UID:757475a1e7614825aa6c55c6037db291@www.uni-marburg.de
CREATED:20220125T083618Z
DESCRIPTION:https://www.uni-marburg.de/de/icwc/aktuelles/termine/studentis
 che-vollversammlung\n
LAST-MODIFIED:20220125T084236Z
LOCATION:Hörsaalgebäude\, Raum +0/0030 sowie online unter: https://uni-m
 arburg.de/rF7yw
URL:https://www.uni-marburg.de/de/icwc/aktuelles/termine/studentische-voll
 versammlung
END:VEVENT
BEGIN:VTIMEZONE
TZID:Europe/Berlin
X-LIC-LOCATION:Europe/Berlin
BEGIN:STANDARD
DTSTART:20211031T020000
TZNAME:CET
TZOFFSETFROM:+0200
TZOFFSETTO:+0100
END:STANDARD
END:VTIMEZONE
END:VCALENDAR
