BEGIN:VCALENDAR
VERSION:2.0
PRODID:-//Plone.org//NONSGML plone.app.event//EN
X-WR-TIMEZONE:Europe/Berlin
BEGIN:VEVENT
SUMMARY:Symposium "Responsibility to Protect and Humanitarian Intervention
 s - Military Force in the Name of Human Rights?"
DTSTART;TZID=Europe/Berlin:20231106T090000
DTEND;TZID=Europe/Berlin:20231108T140000
DTSTAMP:20260425T150400Z
UID:588cc3dff0814d2aac4be6fb2b257b6a@www.uni-marburg.de
CREATED:20230911T104209Z
DESCRIPTION:https://www.uni-marburg.de/de/icwc/aktuelles/termine/symposium
 -schutzverantwortung-und-humanitaere-intervention-militaerische-gewalt-im-
 namen-der-menschenrechte\n
LAST-MODIFIED:20231004T133915Z
LOCATION:Schloss Herrenhausen\, Hannover
URL:https://www.uni-marburg.de/de/icwc/aktuelles/termine/symposium-schutzv
 erantwortung-und-humanitaere-intervention-militaerische-gewalt-im-namen-de
 r-menschenrechte
END:VEVENT
BEGIN:VTIMEZONE
TZID:Europe/Berlin
X-LIC-LOCATION:Europe/Berlin
BEGIN:STANDARD
DTSTART:20231029T020000
TZNAME:CET
TZOFFSETFROM:+0200
TZOFFSETTO:+0100
END:STANDARD
END:VTIMEZONE
END:VCALENDAR
