BEGIN:VCALENDAR
VERSION:2.0
PRODID:-//Plone.org//NONSGML plone.app.event//EN
X-WR-TIMEZONE:Europe/Berlin
BEGIN:VEVENT
SUMMARY:Tagung "Gerechtigkeit aus der Ferne?"
DTSTART;TZID=Europe/Berlin:20220303T180000
DTEND;TZID=Europe/Berlin:20220305T130000
DTSTAMP:20260423T062926Z
UID:b9213b9434194579862b81f044daf8a4@www.uni-marburg.de
CREATED:20220222T100020Z
DESCRIPTION:https://www.uni-marburg.de/de/icwc/aktuelles/termine/tagung-ge
 rechtigkeit-aus-der-ferne\n
LAST-MODIFIED:20220222T100439Z
LOCATION:Universitätsbibliothek\, Deutschhausstraße 9\, 35037 Marburg\, 
 Raum B008
URL:https://www.uni-marburg.de/de/icwc/aktuelles/termine/tagung-gerechtigk
 eit-aus-der-ferne
END:VEVENT
BEGIN:VTIMEZONE
TZID:Europe/Berlin
X-LIC-LOCATION:Europe/Berlin
BEGIN:STANDARD
DTSTART:20211031T020000
TZNAME:CET
TZOFFSETFROM:+0200
TZOFFSETTO:+0100
END:STANDARD
END:VTIMEZONE
END:VCALENDAR
