BEGIN:VCALENDAR
VERSION:2.0
PRODID:-//Plone.org//NONSGML plone.app.event//EN
X-WR-TIMEZONE:Europe/Berlin
BEGIN:VEVENT
SUMMARY:Uni-Sommerfest im Botanischen Garten - das ICWC ist mit dabei!
DTSTART;TZID=Europe/Berlin:20250725T140000
DTSTAMP:20260423T155400Z
UID:c548446de6eb43e3a2fa679ca748926d@www.uni-marburg.de
CREATED:20250617T111312Z
DESCRIPTION:https://www.uni-marburg.de/de/icwc/aktuelles/termine/uni-somme
 rfest-im-botanischen-garten-das-icwc-ist-mit-dabei\n
LAST-MODIFIED:20250715T081854Z
LOCATION:Botanischer Garten auf den Lahnbergen\, Karl-von-Frisch-Straße\,
  35043 Marburg
URL:https://www.uni-marburg.de/de/icwc/aktuelles/termine/uni-sommerfest-im
 -botanischen-garten-das-icwc-ist-mit-dabei
END:VEVENT
BEGIN:VTIMEZONE
TZID:Europe/Berlin
X-LIC-LOCATION:Europe/Berlin
BEGIN:DAYLIGHT
DTSTART:20250330T030000
TZNAME:CEST
TZOFFSETFROM:+0100
TZOFFSETTO:+0200
END:DAYLIGHT
END:VTIMEZONE
END:VCALENDAR
