BEGIN:VCALENDAR
VERSION:2.0
PRODID:-//Plone.org//NONSGML plone.app.event//EN
X-WR-TIMEZONE:Europe/Berlin
BEGIN:VEVENT
SUMMARY:Uni-Sommerfest im Neuen Botanischen Garten
DTSTART;TZID=Europe/Berlin:20240719T140000
DTSTAMP:20260423T125343Z
UID:3bf48499a11846c69e8431d75d146d0c@www.uni-marburg.de
CREATED:20240625T114540Z
DESCRIPTION:https://www.uni-marburg.de/de/icwc/aktuelles/termine/uni-somme
 rfest-im-neuen-botanischen-garten\nDie Uni lädt Studierende\, Beschäftig
 te und alle Interessierten zum Sommerfest 2024 ein. Auch das ICWC ist mit 
 einem eigenen Stand vertreten.
LAST-MODIFIED:20240625T114548Z
LOCATION:Neuer Botanischer Garten\, Karl-von-Frisch-Straße\, 35043 Marbur
 g
URL:https://www.uni-marburg.de/de/icwc/aktuelles/termine/uni-sommerfest-im
 -neuen-botanischen-garten
END:VEVENT
BEGIN:VTIMEZONE
TZID:Europe/Berlin
X-LIC-LOCATION:Europe/Berlin
BEGIN:DAYLIGHT
DTSTART:20240331T030000
TZNAME:CEST
TZOFFSETFROM:+0100
TZOFFSETTO:+0200
END:DAYLIGHT
END:VTIMEZONE
END:VCALENDAR
