BEGIN:VCALENDAR
VERSION:2.0
PRODID:-//Plone.org//NONSGML plone.app.event//EN
X-WR-TIMEZONE:Europe/Berlin
BEGIN:VEVENT
SUMMARY:Vortrag "Grenzen des Verhandelbaren? Zur Rolle des Völkerrechts i
 n den Aushandlungsprozessen globaler Ordnung"
DTSTART;TZID=Europe/Berlin:20260504T180000
DTEND;TZID=Europe/Berlin:20260504T200000
DTSTAMP:20260425T172137Z
UID:4a6f8de8f1094ae4acd5366566c42517@www.uni-marburg.de
ATTENDEE;CN="Prof. Dr. Heike Krieger";ROLE=REQ-PARTICIPANT:Prof. Dr. Heike
  Krieger
CREATED:20260420T122650Z
DESCRIPTION:https://www.uni-marburg.de/de/icwc/aktuelles/termine/vortrag-g
 renzen-des-verhandelbaren-zur-rolle-des-voelkerrechts-in-den-aushandlungsp
 rozessen-globaler-ordnung\n
LAST-MODIFIED:20260421T083007Z
LOCATION:Raum SEM 00/0130\, Seminargebäude B | 07\, Pilgrimstein 12\, 350
 37 Marburg
URL:https://www.uni-marburg.de/de/icwc/aktuelles/termine/vortrag-grenzen-d
 es-verhandelbaren-zur-rolle-des-voelkerrechts-in-den-aushandlungsprozessen
 -globaler-ordnung
END:VEVENT
BEGIN:VTIMEZONE
TZID:Europe/Berlin
X-LIC-LOCATION:Europe/Berlin
BEGIN:DAYLIGHT
DTSTART:20260329T030000
TZNAME:CEST
TZOFFSETFROM:+0100
TZOFFSETTO:+0200
END:DAYLIGHT
END:VTIMEZONE
END:VCALENDAR
