BEGIN:VCALENDAR
VERSION:2.0
PRODID:-//Plone.org//NONSGML plone.app.event//EN
X-WR-TIMEZONE:Europe/Berlin
BEGIN:VEVENT
SUMMARY:Vortrag "Imaginationen globaler Ordnung. Zum Vertrautheitsproblem 
 ihrer Strukturbildung"
DTSTART;TZID=Europe/Berlin:20260601T180000
DTEND;TZID=Europe/Berlin:20260601T200000
DTSTAMP:20260423T205320Z
UID:74f25fb3f2944b1f975de9a70a9d7588@www.uni-marburg.de
ATTENDEE;CN="Dr. Henning de Vries";ROLE=REQ-PARTICIPANT:Dr. Henning de Vri
 es
CATEGORIES:()
CREATED:20260420T130418Z
DESCRIPTION:https://www.uni-marburg.de/de/icwc/aktuelles/termine/vortrag-i
 maginationen-globaler-ordnung-zum-vertrautheitsproblem-ihrer-strukturbildu
 ng\n
LAST-MODIFIED:20260421T091440Z
LOCATION:Raum SEM 00/0130\, Seminargebäude B | 07\, Pilgrimstein 12\, 350
 37 Marburg
URL:https://www.uni-marburg.de/de/icwc/aktuelles/termine/vortrag-imaginati
 onen-globaler-ordnung-zum-vertrautheitsproblem-ihrer-strukturbildung
END:VEVENT
BEGIN:VTIMEZONE
TZID:Europe/Berlin
X-LIC-LOCATION:Europe/Berlin
BEGIN:DAYLIGHT
DTSTART:20260329T030000
TZNAME:CEST
TZOFFSETFROM:+0100
TZOFFSETTO:+0200
END:DAYLIGHT
END:VTIMEZONE
END:VCALENDAR
