BEGIN:VCALENDAR
VERSION:2.0
PRODID:-//Plone.org//NONSGML plone.app.event//EN
X-WR-TIMEZONE:Europe/Berlin
BEGIN:VEVENT
SUMMARY:Vortrag "Krieg und Legitimität"
DTSTART;TZID=Europe/Berlin:20260518T180000
DTEND;TZID=Europe/Berlin:20260518T200000
DTSTAMP:20260421T203521Z
UID:c4d6adda1b4b4ed1a6ce85e0dc6a0453@www.uni-marburg.de
ATTENDEE;CN="Prof. Dr. Klaus Schlichte";ROLE=REQ-PARTICIPANT:Prof. Dr. Kla
 us Schlichte
CATEGORIES:()
CREATED:20260420T124428Z
DESCRIPTION:https://www.uni-marburg.de/de/icwc/aktuelles/termine/vortrag-k
 rieg-und-legitimitaet\n
LAST-MODIFIED:20260421T083007Z
LOCATION:Raum SEM 00/0130\, Seminargebäude B | 07\, Pilgrimstein 12\, 350
 37 Marburg
URL:https://www.uni-marburg.de/de/icwc/aktuelles/termine/vortrag-krieg-und
 -legitimitaet
END:VEVENT
BEGIN:VTIMEZONE
TZID:Europe/Berlin
X-LIC-LOCATION:Europe/Berlin
BEGIN:DAYLIGHT
DTSTART:20260329T030000
TZNAME:CEST
TZOFFSETFROM:+0100
TZOFFSETTO:+0200
END:DAYLIGHT
END:VTIMEZONE
END:VCALENDAR
