BEGIN:VCALENDAR
VERSION:2.0
PRODID:-//Plone.org//NONSGML plone.app.event//EN
X-WR-TIMEZONE:Europe/Berlin
BEGIN:VEVENT
SUMMARY:Kommunizieren trainieren - Gesprächs- und Rede-Training für inte
 rnationale Studierende
DTSTART;TZID=Europe/Berlin:20180116T090000
DTEND;TZID=Europe/Berlin:20180116T170000
DTSTAMP:20260426T002254Z
UID:760290c336ce45c29b9db26585358135@www.uni-marburg.de
ATTENDEE;CN="Oliver Leibrecht (www.euton.de)";ROLE=REQ-PARTICIPANT:Oliver 
 Leibrecht (www.euton.de)
CREATED:20171020T150924Z
DESCRIPTION:https://www.uni-marburg.de/de/international/news-international
 /termine/2017/kommunizieren-trainieren-gespraechs-und-rede-training-fuer-i
 nternationale-studierende\nFachübergreifende Studienkompetenzen und Orien
 tierung für den Arbeitsmarkt – das bietet das ARIADNE-Programm des Inte
 rnational Office speziell für internationale Studierende. Wir laden Sie h
 erzlich zu diesem Workshop ein.
LAST-MODIFIED:20250905T083256Z
LOCATION:Deutschhausstraße 11+13\, Raum 01.0010
URL:https://www.uni-marburg.de/de/international/news-international/termine
 /2017/kommunizieren-trainieren-gespraechs-und-rede-training-fuer-internati
 onale-studierende
END:VEVENT
BEGIN:VTIMEZONE
TZID:Europe/Berlin
X-LIC-LOCATION:Europe/Berlin
BEGIN:STANDARD
DTSTART:20171029T020000
TZNAME:CET
TZOFFSETFROM:+0200
TZOFFSETTO:+0100
END:STANDARD
END:VTIMEZONE
END:VCALENDAR
