BEGIN:VCALENDAR
VERSION:2.0
PRODID:-//Plone.org//NONSGML plone.app.event//EN
X-WR-TIMEZONE:Europe/Berlin
BEGIN:VEVENT
SUMMARY:DaF lädt ein – Interkulturelle Events organisiert von DaF-Studi
 erenden
DTSTART;TZID=Europe/Berlin:20180126T180000
DTSTAMP:20260425T060311Z
UID:04979b83641344bc8804bd0d7aab7d69@www.uni-marburg.de
CREATED:20180119T093225Z
DESCRIPTION:https://www.uni-marburg.de/de/international/news-international
 /termine/2018/daf-laedt-ein-interkulturelle-events-organisiert-von-daf-stu
 dierenden\nDie Welt kocht\nWir möchten gemeinsam mit euch typische Gerich
 te aus verschiedenen Ländern genießen. Dazu möchten wir euch bitten\, e
 ure Lieblingsrezepte aus verschiedenen Ländern zuzubereiten und mitzubrin
 gen. Wir freuen uns auf einen gemütlichen und leckeren Abend mit euch!
LAST-MODIFIED:20250905T084156Z
LOCATION:Philipps-Universität Marburg\, Wilhelm-Röpke-Straße 6\, WR 01 
 A 04
URL:https://www.uni-marburg.de/de/international/news-international/termine
 /2018/daf-laedt-ein-interkulturelle-events-organisiert-von-daf-studierende
 n
END:VEVENT
BEGIN:VTIMEZONE
TZID:Europe/Berlin
X-LIC-LOCATION:Europe/Berlin
BEGIN:STANDARD
DTSTART:20171029T020000
TZNAME:CET
TZOFFSETFROM:+0200
TZOFFSETTO:+0100
END:STANDARD
END:VTIMEZONE
END:VCALENDAR
