BEGIN:VCALENDAR
VERSION:2.0
PRODID:-//Plone.org//NONSGML plone.app.event//EN
X-WR-TIMEZONE:Europe/Berlin
BEGIN:VEVENT
SUMMARY:Kulturprogramm Meets Licher Brauerei
DTSTART;TZID=Europe/Berlin:20180517T130000
DTEND;TZID=Europe/Berlin:20180517T190000
DTSTAMP:20260421T121250Z
UID:9b57011bee2949c791ada845706d48ff@www.uni-marburg.de
CREATED:20180420T113024Z
DESCRIPTION:https://www.uni-marburg.de/de/international/news-international
 /termine/2018/kulturprogramm-meets-licher-brauerei\nSie sind international
 er Studi und haben sich immer schon gefragt\, wie deutsches Bier gebraut w
 ird? Dann besuchen Sie mit uns die Licher-Brauerei! Nach einer Besichtigun
 gstour (auf Deutsch) sind Sie herzlich zu einem kleinen Beer-Tasting in Mi
 ttelhessens größter Brauerei eingeladen.
LAST-MODIFIED:20250905T084202Z
LOCATION:Lich
URL:https://www.uni-marburg.de/de/international/news-international/termine
 /2018/kulturprogramm-meets-licher-brauerei
END:VEVENT
BEGIN:VTIMEZONE
TZID:Europe/Berlin
X-LIC-LOCATION:Europe/Berlin
BEGIN:DAYLIGHT
DTSTART:20180325T030000
TZNAME:CEST
TZOFFSETFROM:+0100
TZOFFSETTO:+0200
END:DAYLIGHT
END:VTIMEZONE
END:VCALENDAR
