BEGIN:VCALENDAR
VERSION:2.0
PRODID:-//Plone.org//NONSGML plone.app.event//EN
X-WR-TIMEZONE:Europe/Berlin
BEGIN:VEVENT
SUMMARY:Should I stay or should I go?
DTSTART;VALUE=DATE:20180628
DTEND;VALUE=DATE:20180629
DTSTAMP:20260421T231111Z
UID:a169ee2a065b40879dc2d8df1b4beb43@www.uni-marburg.de
CREATED:20180628T111800Z
DESCRIPTION:https://www.uni-marburg.de/de/international/news-international
 /termine/2018/should-i-stay-or-should-i-go\n
LAST-MODIFIED:20250905T084215Z
LOCATION:International Office\, Deutschhausstraße 11+13\,
URL:https://www.uni-marburg.de/de/international/news-international/termine
 /2018/should-i-stay-or-should-i-go
END:VEVENT
END:VCALENDAR
