BEGIN:VCALENDAR
VERSION:2.0
PRODID:-//Plone.org//NONSGML plone.app.event//EN
X-WR-TIMEZONE:Europe/Berlin
BEGIN:VEVENT
SUMMARY:Vorbereitung Karrieremesse
DTSTART;TZID=Europe/Berlin:20180515T140000
DTEND;TZID=Europe/Berlin:20180515T160000
DTSTAMP:20260421T173612Z
UID:371e1d87888b4a0e8840da42bc58454f@www.uni-marburg.de
CREATED:20180511T122128Z
DESCRIPTION:https://www.uni-marburg.de/de/international/news-international
 /termine/2018/vorbereitung-karrieremesse\nKarrieremessen sind der perfekte
  Start in Ihre Berufsplanung: Hier lernen Sie potentielle ArbeitgeberInnen
  kennen\, informieren sich und bauen sich Ihr berufliches Netzwerk auf.
LAST-MODIFIED:20250905T084210Z
LOCATION:International Office\, Deutschhausstraße 11+13\, Raum 01.0030\, 
 Marburg
URL:https://www.uni-marburg.de/de/international/news-international/termine
 /2018/vorbereitung-karrieremesse
END:VEVENT
BEGIN:VTIMEZONE
TZID:Europe/Berlin
X-LIC-LOCATION:Europe/Berlin
BEGIN:DAYLIGHT
DTSTART:20180325T030000
TZNAME:CEST
TZOFFSETFROM:+0100
TZOFFSETTO:+0200
END:DAYLIGHT
END:VTIMEZONE
END:VCALENDAR
