BEGIN:VCALENDAR
VERSION:2.0
PRODID:-//Plone.org//NONSGML plone.app.event//EN
X-WR-TIMEZONE:Europe/Berlin
BEGIN:VEVENT
SUMMARY:Bewerbungsmappencheck
DTSTART;TZID=Europe/Berlin:20210623T140000
DTSTAMP:20260421T181508Z
UID:cd243f5e58e54f27bfcfc4211013f556@www.uni-marburg.de
CREATED:20210415T070422Z
DESCRIPTION:https://www.uni-marburg.de/de/international/news-international
 /termine/2021/bewerbungsmappencheck-2\nSind Sie internationale*r Studieren
 de*r und haben eine super interessante Job-Ausschreibung gefunden?
LAST-MODIFIED:20250905T085911Z
LOCATION:online
URL:https://www.uni-marburg.de/de/international/news-international/termine
 /2021/bewerbungsmappencheck-2
END:VEVENT
BEGIN:VTIMEZONE
TZID:Europe/Berlin
X-LIC-LOCATION:Europe/Berlin
BEGIN:DAYLIGHT
DTSTART:20210328T030000
TZNAME:CEST
TZOFFSETFROM:+0100
TZOFFSETTO:+0200
END:DAYLIGHT
END:VTIMEZONE
END:VCALENDAR
