BEGIN:VCALENDAR
VERSION:2.0
PRODID:-//Plone.org//NONSGML plone.app.event//EN
X-WR-TIMEZONE:Europe/Berlin
BEGIN:VEVENT
SUMMARY:Chancen für Studierende: Mit Fulbright in die USA reisen
DTSTART;TZID=Europe/Berlin:20220119T150000
DTEND;TZID=Europe/Berlin:20220119T160000
DTSTAMP:20260425T184142Z
UID:824579545b83405ca59de420beb20d9a@www.uni-marburg.de
CREATED:20211122T142804Z
DESCRIPTION:https://www.uni-marburg.de/de/international/news-international
 /termine/2021/chancen-fuer-studierende-mit-fulbright-in-die-usa-reisen\n
LAST-MODIFIED:20250905T085908Z
LOCATION:Zoom
URL:https://www.uni-marburg.de/de/international/news-international/termine
 /2021/chancen-fuer-studierende-mit-fulbright-in-die-usa-reisen
END:VEVENT
BEGIN:VTIMEZONE
TZID:Europe/Berlin
X-LIC-LOCATION:Europe/Berlin
BEGIN:STANDARD
DTSTART:20211031T020000
TZNAME:CET
TZOFFSETFROM:+0200
TZOFFSETTO:+0100
END:STANDARD
END:VTIMEZONE
END:VCALENDAR
