BEGIN:VCALENDAR
VERSION:2.0
PRODID:-//Plone.org//NONSGML plone.app.event//EN
X-WR-TIMEZONE:Europe/Berlin
BEGIN:VEVENT
SUMMARY:Community Engagement Workshop
DTSTART;TZID=Europe/Berlin:20211116T160000
DTEND;TZID=Europe/Berlin:20211116T173000
DTSTAMP:20260419T231622Z
UID:1ef2e48cb06f4ef9a0639bd65b0a7ffb@www.uni-marburg.de
CREATED:20211104T071703Z
DESCRIPTION:https://www.uni-marburg.de/de/international/news-international
 /termine/2021/community-engagement-workshop\n
LAST-MODIFIED:20250905T085919Z
LOCATION:online via BigBlueButton
URL:https://www.uni-marburg.de/de/international/news-international/termine
 /2021/community-engagement-workshop
END:VEVENT
BEGIN:VTIMEZONE
TZID:Europe/Berlin
X-LIC-LOCATION:Europe/Berlin
BEGIN:STANDARD
DTSTART:20211031T020000
TZNAME:CET
TZOFFSETFROM:+0200
TZOFFSETTO:+0100
END:STANDARD
END:VTIMEZONE
END:VCALENDAR
