BEGIN:VCALENDAR
VERSION:2.0
PRODID:-//Plone.org//NONSGML plone.app.event//EN
X-WR-TIMEZONE:Europe/Berlin
BEGIN:VEVENT
SUMMARY:Das Digitale Vorstellungsgespräch
DTSTART;TZID=Europe/Berlin:20211109T090000
DTEND;TZID=Europe/Berlin:20211109T130000
DTSTAMP:20260421T081349Z
UID:f0a328484a354e6998c6de06b038bc39@www.uni-marburg.de
CREATED:20211104T071302Z
DESCRIPTION:https://www.uni-marburg.de/de/international/news-international
 /termine/2021/das-digitale-vorstellungsgespraech\n
LAST-MODIFIED:20250905T085921Z
LOCATION:online via BigBlueButton
URL:https://www.uni-marburg.de/de/international/news-international/termine
 /2021/das-digitale-vorstellungsgespraech
END:VEVENT
BEGIN:VTIMEZONE
TZID:Europe/Berlin
X-LIC-LOCATION:Europe/Berlin
BEGIN:STANDARD
DTSTART:20211031T020000
TZNAME:CET
TZOFFSETFROM:+0200
TZOFFSETTO:+0100
END:STANDARD
END:VTIMEZONE
END:VCALENDAR
